BEGIN:VCALENDAR
PRODID:-//github.com/ical-org/ical.net//NONSGML ical.net 4.0//EN
VERSION:2.0
BEGIN:VEVENT
DESCRIPTION:Book Title: Activity – A Literary Game and a Good Laugh
DTEND:20260422T173000Z
DTSTAMP:20260419T152410Z
DTSTART:20260422T160000Z
GEO:47.090505;17.906624
LOCATION: Eötvös Károly Library\nVeszprém\, Komakút tér 3
SEQUENCE:0
SUMMARY:Book Title: Activity
UID:a4ae63b9-06ba-40f8-9d75-869f5b309130
END:VEVENT
END:VCALENDAR
