BEGIN:VCALENDAR
PRODID:-//github.com/ical-org/ical.net//NONSGML ical.net 4.0//EN
VERSION:2.0
BEGIN:VEVENT
DESCRIPTION:A 60-minute\, movement-based wellbeing experience led by body-
 oriented therapist\, BodyWork facilitator\, and psychoeducational special
 ist Kinga Albert.
DTEND:20260424T160000Z
DTSTAMP:20260420T235106Z
DTSTART:20260424T150000Z
GEO:46.955675;17.606851
LOCATION:ArtValley Hall\nKapolcs\, Kossuth u. 48
SEQUENCE:0
SUMMARY:BodyWork: developing body awareness through walking and Nordic wal
 king exercises
UID:c06b9455-6712-41bb-a634-e588d5ce95e2
END:VEVENT
END:VCALENDAR
