BEGIN:VCALENDAR
PRODID:-//github.com/ical-org/ical.net//NONSGML ical.net 4.0//EN
VERSION:2.0
BEGIN:VEVENT
DESCRIPTION:Conditional development\, during which we break away from the 
 daily rush and stress with relaxed but strengthening\, body-shaping movem
 ents set to music.
DTEND;VALUE=DATE:20260531
DTSTAMP:20260420T061035Z
DTSTART;VALUE=DATE:20260202
GEO:47.081003;18.028575
LOCATION:Balaton Swimming Pool\nBalatonfűzfő\, Fűzfőgyártelep
SEQUENCE:0
SUMMARY:Aquafitness - Balaton swimming pool\, Balatonfűzfő
UID:8bbc24cc-207c-4ba9-8e2f-3eb5d800bf90
END:VEVENT
END:VCALENDAR
