BEGIN:VCALENDAR
PRODID:-//github.com/ical-org/ical.net//NONSGML ical.net 4.0//EN
VERSION:2.0
BEGIN:VEVENT
DESCRIPTION:Everyone is welcome—kids\, adults\, and families—for a pleasan
 t spring bike ride through beautiful nature. Fresh air\, stunning scenery
 \, and good company—what more could you ask for? \nGrab your bike\, call 
 your friends\, and let’s spend an active\, fun day together!\n\n📍 Destin
 ation: Kis-Balaton\nDate: 4:00 p.m.\, April 26\, 2026 \nMeeting point: Ké
 t Tölgy Information Center (318 Dózsa Gy. u.\, Sármellék 8391)\n🌸 Spring
  vibes guaranteed!\nDon’t miss out—join us! 🚴‍♀️💚
DTEND:20260426T160000Z
DTSTAMP:20260420T205759Z
DTSTART:20260426T140000Z
GEO:46.716928;17.170461
LOCATION:Sármellék\nSármellék
SEQUENCE:0
SUMMARY:Amateur Sports Club – Come ride with us to Kis-Balaton!
UID:bc56c864-578b-45a1-82d9-42b77945f444
END:VEVENT
END:VCALENDAR
