BEGIN:VCALENDAR
PRODID:-//github.com/ical-org/ical.net//NONSGML ical.net 4.0//EN
VERSION:2.0
BEGIN:VEVENT
DESCRIPTION:Available all year round\, fun and educational programs in Bad
 acsonyörs: arboretum walks\, discovery games\, exhibitions\, and evening 
 light painting.
DTEND;VALUE=DATE:20270131
DTSTAMP:20260420T230158Z
DTSTART;VALUE=DATE:20260224
GEO:46.809264;17.544754
LOCATION:Folly Arboretum and Winery\nBadacsonytomaj\, Badacsonyörs\, Kápol
 navölgyi út 25
SEQUENCE:0
SUMMARY:Permanent programs at Folly Arboretum
UID:187ca0bd-cff9-4bd0-ace7-b6e0eeb83dd9
END:VEVENT
END:VCALENDAR
