BEGIN:VCALENDAR
PRODID:-//github.com/ical-org/ical.net//NONSGML ical.net 4.0//EN
VERSION:2.0
BEGIN:VEVENT
DESCRIPTION:A free community run—all runners are welcome!
DTEND:20260224T230000Z
DTSTAMP:20260421T045812Z
DTSTART:20260224T173000Z
GEO:47.091959;17.906928
LOCATION:Theater Garden\nVeszprém\, Óvári Ferenc út 2
SEQUENCE:0
SUMMARY:Advanced Running - VeszpRun
UID:f887cdc3-f017-4d25-ab31-2d7a22680266
END:VEVENT
END:VCALENDAR
