BEGIN:VCALENDAR
PRODID:-//github.com/ical-org/ical.net//NONSGML ical.net 4.0//EN
VERSION:2.0
BEGIN:VEVENT
DESCRIPTION:A guided e-bike tour starting in Kapolcs\, covering the most b
 eautiful hiking trails in the area.
DTEND:20260411T100000Z
DTSTAMP:20260420T202243Z
DTSTART:20260411T080000Z
GEO:46.955675;17.606851
LOCATION:ArtValley Hall\nKapolcs\, Kossuth u. 48
SEQUENCE:0
SUMMARY:A guided e-bike tour
UID:826eaab9-796e-4e29-948d-859af0a26cb8
END:VEVENT
END:VCALENDAR
