BEGIN:VCALENDAR
PRODID:-//github.com/ical-org/ical.net//NONSGML ical.net 4.0//EN
VERSION:2.0
BEGIN:VEVENT
DESCRIPTION:Trail running in the Balaton Uplands: choose your distance\, r
 egister\, and experience the atmosphere of the Ultrabalaton Trail!
DTEND;VALUE=DATE:20261003
DTSTAMP:20260421T101223Z
DTSTART;VALUE=DATE:20261002
GEO:47.006841;17.915276
LOCATION:Balaton Adventure Park Csopak\nPaloznak
SEQUENCE:0
SUMMARY:8th Ultrabalaton Trail
UID:e1847bcc-3dd9-4bde-a59d-af681c09cce8
END:VEVENT
END:VCALENDAR
