BEGIN:VCALENDAR
PRODID:-//github.com/ical-org/ical.net//NONSGML ical.net 4.0//EN
VERSION:2.0
BEGIN:VEVENT
DESCRIPTION:Veszprém Triathlon Festival is back! Details coming soon...
DTSTAMP:20260419T132551Z
DTSTART;VALUE=DATE:20260524
GEO:47.094681;17.906112
LOCATION:Veszprém\n
SEQUENCE:0
SUMMARY:4th Veszprém Triathlon Festival
UID:d0ae8850-2756-45a7-99c6-3754c60b530c
END:VEVENT
END:VCALENDAR
