BEGIN:VCALENDAR
PRODID:-//github.com/ical-org/ical.net//NONSGML ical.net 4.0//EN
VERSION:2.0
BEGIN:VEVENT
DESCRIPTION:A friendly atmosphere\, an organized background\, safe escort 
 on the roads. Join any distance and cycle with the community!
DTEND;VALUE=DATE:20260510
DTSTAMP:20260421T131138Z
DTSTART;VALUE=DATE:20260508
GEO:46.884632;17.936400
LOCATION:Zamárdi Main Beach\nZamárdi\, Margó Ede stny. 14
SEQUENCE:0
SUMMARY:27th Balaton Circle
UID:9521d2c6-b99c-4036-9f16-37cbe0068f19
END:VEVENT
END:VCALENDAR
